BEGIN:VCALENDAR
VERSION:2.0
PRODID:-//Lake Lanier Association - ECPv6.15.20//NONSGML v1.0//EN
CALSCALE:GREGORIAN
METHOD:PUBLISH
X-ORIGINAL-URL:https://lakelanier.org
X-WR-CALDESC:Events for Lake Lanier Association
REFRESH-INTERVAL;VALUE=DURATION:PT1H
X-Robots-Tag:noindex
X-PUBLISHED-TTL:PT1H
BEGIN:VTIMEZONE
TZID:America/New_York
BEGIN:DAYLIGHT
TZOFFSETFROM:-0500
TZOFFSETTO:-0400
TZNAME:EDT
DTSTART:20250309T070000
END:DAYLIGHT
BEGIN:STANDARD
TZOFFSETFROM:-0400
TZOFFSETTO:-0500
TZNAME:EST
DTSTART:20251102T060000
END:STANDARD
BEGIN:DAYLIGHT
TZOFFSETFROM:-0500
TZOFFSETTO:-0400
TZNAME:EDT
DTSTART:20260308T070000
END:DAYLIGHT
BEGIN:STANDARD
TZOFFSETFROM:-0400
TZOFFSETTO:-0500
TZNAME:EST
DTSTART:20261101T060000
END:STANDARD
BEGIN:DAYLIGHT
TZOFFSETFROM:-0500
TZOFFSETTO:-0400
TZNAME:EDT
DTSTART:20270314T070000
END:DAYLIGHT
BEGIN:STANDARD
TZOFFSETFROM:-0400
TZOFFSETTO:-0500
TZNAME:EST
DTSTART:20271107T060000
END:STANDARD
BEGIN:DAYLIGHT
TZOFFSETFROM:-0500
TZOFFSETTO:-0400
TZNAME:EDT
DTSTART:20280312T070000
END:DAYLIGHT
BEGIN:STANDARD
TZOFFSETFROM:-0400
TZOFFSETTO:-0500
TZNAME:EST
DTSTART:20281105T060000
END:STANDARD
END:VTIMEZONE
BEGIN:VEVENT
DTSTART;VALUE=DATE:20260424
DTEND;VALUE=DATE:20260427
DTSTAMP:20260421T102746
CREATED:20260120T163950Z
LAST-MODIFIED:20260120T164142Z
UID:10026-1776988800-1777247999@lakelanier.org
SUMMARY:Lake Lanier Boat Show - Spring 2026
DESCRIPTION:Come see LLA at the Lake Lanier Boat Show  \nWhen? Friday\, April 24th – Sunday\, April 26th \nWhere? Margaritaville at Lanier Islands \nThis on-the-water boat show is truly the most unique boat shopping experience Lake Lanier has to offer – you won’t want to miss it! Shop & enjoy live music\, food\, and 25+ vendors. When you visit the LLA booth\, be sure to join or renew your LLA membership and get updates on programs\, upcoming events\, and more from the Lake Lanier Association team! \nShop the Docks with Peace of Mind! LLA will have our boat at the front of the showroom docks to provide courtesy life jackets to children. This is just one more way for LLA to live out our mission of a SAFE Lake Lanier!
URL:https://lakelanier.org/event/lake-lanier-boat-show-spring-2026/
LOCATION:Lanier Islands\, 7000 Lanier Islands Parkway\, Buford\, GA\, 30518\, United States
ATTACH;FMTTYPE=image/jpeg:https://lakelanier.org/wp-content/uploads/2024/01/307973902_115184601324910_2347317347187697922_n.jpg
END:VEVENT
BEGIN:VEVENT
DTSTART;TZID=America/New_York:20260425T070000
DTEND;TZID=America/New_York:20260425T150000
DTSTAMP:20260421T102746
CREATED:20260202T190626Z
LAST-MODIFIED:20260202T190750Z
UID:10058-1777100400-1777129200@lakelanier.org
SUMMARY:Lanier Canoe & Kayak Club: Gainesville Hall Dragonboat Challenge
DESCRIPTION:Come out and support the Lanier Canoe and Kayak Club at the 2026 Gainesville Hall Dragonboat race! The funds raised for the event help their programs\, including competition and community programs for paddlers of all skill levels.  \nDate: April 25  \nTime: 7 a.m. to 3 p.m. \n\nBring your tent and food and spend the day racing against other organizations and local businesses! \n\n\nFor more information and to register for the event\, please Click Here!
URL:https://lakelanier.org/event/lanier-canoe-kayak-club-gainesville-hall-dragonboat-challenge/
LOCATION:GA
ATTACH;FMTTYPE=image/jpeg:https://lakelanier.org/wp-content/uploads/2026/02/IMG_7500-scaled.jpeg
ORGANIZER;CN="Lanier%C2%A0Canoe and Kayak Club":MAILTO:info@lckc.org
END:VEVENT
BEGIN:VEVENT
DTSTART;TZID=America/New_York:20260502T083000
DTEND;TZID=America/New_York:20260502T170000
DTSTAMP:20260421T102746
CREATED:20260202T200945Z
LAST-MODIFIED:20260202T201210Z
UID:10102-1777710600-1777741200@lakelanier.org
SUMMARY:America’s Boating Course Taught By ABCA Instructors (In-Person)
DESCRIPTION:America’s Boating Club Atlanta teaches the nationally recognized Basic Safe Boating class formally called America’s Boating Course. It is the nation’s premier basic boating safety course\, having been approved by the US Coast Guard and the State of Georgia. The Corps of Engineers and Georgia’s Department of Natural Resources (DNR) have teamed with America’s Boating Club Atlanta to offer this 8-hour course. All instructors are certified for teaching this class to the recreational boating public. \nThis class is great for adults and teens\, you can enjoy learning as a family! The class is approved by the State of Georgia Department of Natural Resources (GA DNR) and by the National Association of the State Boating Law Administrators (NASBLA) to fulfill GA state requirements for boater safety education. You may be able to save on your boat insurance after taking a “America’s Boating Course” class – check with your agent for details! \nWhat is taught?\n• Boat Handling – Docking and Trailering\n• Safety Equipment and Procedures\n• Navigation Basics – Rules of the Road\n• Boat Types and Terminology\n• Water sports – paddle craft\, personal water craft (PWC) and towing \nCourse Fee: $25 per student Course fee may be paid via Zelle or check. Send an email to treasurer@americasboatingclubatlanta.org for details. Optional: $28 reference text available from instructor \nThis course date is in-person\, but online options are available. To find more information and register for the course\, please Click Here!
URL:https://lakelanier.org/event/americas-boating-course-may-2/
LOCATION:GA
ATTACH;FMTTYPE=image/png:https://lakelanier.org/wp-content/uploads/2022/05/Americas-Boating-Club-Logo.png
ORGANIZER;CN="America's Boating Club Atlanta":MAILTO:abc@americasboatingclubatlanta.org
END:VEVENT
BEGIN:VEVENT
DTSTART;VALUE=DATE:20260503
DTEND;VALUE=DATE:20260504
DTSTAMP:20260421T102746
CREATED:20260312T142640Z
LAST-MODIFIED:20260420T194728Z
UID:10423-1777766400-1777852799@lakelanier.org
SUMMARY:Annual Member Celebration
DESCRIPTION:Join us as we kick off lake season and celebrate YOU – our members\, donors\, and volunteers who help us keep Lanier clean\, full\, and safe! \nThis Lake Lanier Association members only event returns just in time for lake season! Come celebrate with fellow Lake Lanier Association members at the 2026 Member Celebration on May 3rd at Aqualand. \nEnjoy free food\, drinks from the cash bar\, take in the lake views\, and peruse information and products from LLA Business Sponsors! \nThis is an LLA Members exclusive event! Not an LLA Member? No problem! There’s still time to join the LLA and support our efforts towards a Clean\, Full\, and Safe Lake Lanier AND get to enjoy a fun party to kick off lake season.  \nTICKET DETAILS \nEach LLA membership allows for two free entries into the event! Additional tickets can be purchased at the event in the form of a $25 donation. This is perfect for family members and out of town guests. If you’d like to bring your friends or neighbors\, please encourage them to become a member of the LLA! Their membership not only gives them access to the event\, but supports LLA’s work towards a Clean\, Full\, and Safe Lake Lanier all year. \nLLA members – please use the link sent to your email to register for this event. See you soon!  \nStill Have Questions? Let us know! Send us an email at lakeinfo@lakelanier.org or call us at 770-744-4547. We are here to help and as always\, appreciate the ongoing support of our members.
URL:https://lakelanier.org/event/annual-member-celebration-26/
LOCATION:Pig Tales on Lake Lanier\, 6800 Lights Ferry Rd\, Flowery Branch\, GA\, 30542\, United States
ATTACH;FMTTYPE=image/png:https://lakelanier.org/wp-content/uploads/2026/03/AMC-2026-Facebook-Cover-1.png
END:VEVENT
BEGIN:VEVENT
DTSTART;TZID=America/New_York:20260509T170000
DTEND;TZID=America/New_York:20260509T220000
DTSTAMP:20260421T102746
CREATED:20260312T155125Z
LAST-MODIFIED:20260312T155210Z
UID:10434-1778346000-1778364000@lakelanier.org
SUMMARY:Chattahoochee Riverkeeper Waterfest
DESCRIPTION:Come out and support Chattahoochee Riverkeeper as they host their 3rd annual Waterfest! This free community event is a fun way to celebrate clean water and the Chattahoochee River with your neighbors.  \nAt the last Waterfest they raised $24\,500 to support CRK’s water conservation and education initiatives in the headwaters region of the Chattahoochee River.   \nThis year’s event will feature live music\, interactive booths\, and plenty of opportunities to learn something new while celebrating the local waterways. \n\nLocation: Cumming City Center\n423 Canton Road; Cumming\, GA 30040\nDate: Saturday\, May 9th\nTime: 5 p.m. – 10 p.m. \nBring your friends and family to spend a fun day exploring the Waterfest! \nFor more information about the event\, please Click Here!
URL:https://lakelanier.org/event/crk-waterfest-26/
LOCATION:Cumming City Center\, 423 Canton Rd\, Cumming\, GA\, 30040\, United States
ATTACH;FMTTYPE=image/png:https://lakelanier.org/wp-content/uploads/2026/03/CRK-Logo-Color.png
END:VEVENT
BEGIN:VEVENT
DTSTART;TZID=America/New_York:20260512T113000
DTEND;TZID=America/New_York:20260512T130000
DTSTAMP:20260421T102746
CREATED:20260224T172253Z
LAST-MODIFIED:20260330T133357Z
UID:10360-1778585400-1778590800@lakelanier.org
SUMMARY:Lunch and Learn - David Coughlin\, Author of "Lake Sidney Lanier\, A Storybook Site" 
DESCRIPTION:EVENT DETAILS\n\n\n\n\n\n\n\n\n\n\n\nLLA Members – this is just for you! Join LLA Board Members and Staff as we host David Coughlin\, the author of “Lake Sidney Lanier\, A Storybook Site.”  \nLLA’s second Lunch and Learn of 2026 features David Coughlin\, the author of “Lake Sidney Lanier\, A Storybook Site.” Join LLA Board and Staff to learn more from Coughlin\, a former park ranger for the U.S. Army Corps of Engineers\, retired educator\, and local historian. We are excited to hear his expertise on the early history and construction of Buford Dam\, and how that shaped the lake we enjoy today. \nEvent Details: Tuesday\, May 12th 11:30AM to 1:00PM at the LLA Office \nLLA Office Address: 821 Dawsonville Hwy\, Suite 110 Gainesville\, GA 30501 \nEvent participants will enjoy a boxed lunch courtesy of Lenny’s Subs – Cumming\, GA! \nThis is an LLA members exclusive event! Not a member? No problem\, it’s not too late to join the LLA today! \nWe look forward to seeing you on May 12th! \nRegistration is required. CLICK HERE TO REGISTER!
URL:https://lakelanier.org/event/lunch-and-learn-david-coughlin/
LOCATION:LLA Office\, 821 Dawsonville Hwy Suite 110\, Gainesville\, GA\, 30501\, United States
ATTACH;FMTTYPE=image/png:https://lakelanier.org/wp-content/uploads/2026/02/LLA-Lunch-and-Learn-2.png
END:VEVENT
BEGIN:VEVENT
DTSTART;TZID=America/New_York:20260808T083000
DTEND;TZID=America/New_York:20260808T170000
DTSTAMP:20260421T102746
CREATED:20260202T201703Z
LAST-MODIFIED:20260202T201703Z
UID:10105-1786177800-1786208400@lakelanier.org
SUMMARY:America’s Boating Course Taught By ABCA Instructors (In-Person)
DESCRIPTION:America’s Boating Club Atlanta teaches the nationally recognized Basic Safe Boating class formally called America’s Boating Course. It is the nation’s premier basic boating safety course\, having been approved by the US Coast Guard and the State of Georgia. The Corps of Engineers and Georgia’s Department of Natural Resources (DNR) have teamed with America’s Boating Club Atlanta to offer this 8-hour course. All instructors are certified for teaching this class to the recreational boating public. \nThis class is great for adults and teens\, you can enjoy learning as a family! The class is approved by the State of Georgia Department of Natural Resources (GA DNR) and by the National Association of the State Boating Law Administrators (NASBLA) to fulfill GA state requirements for boater safety education. You may be able to save on your boat insurance after taking a “America’s Boating Course” class – check with your agent for details! \nWhat is taught?\n• Boat Handling – Docking and Trailering\n• Safety Equipment and Procedures\n• Navigation Basics – Rules of the Road\n• Boat Types and Terminology\n• Water sports – paddle craft\, personal water craft (PWC) and towing \nCourse Fee: $25 per student Course fee may be paid via Zelle or check. Send an email to treasurer@americasboatingclubatlanta.org for details. Optional: $28 reference text available from instructor \nThis course date is in-person\, but online options are available. To find more information and register for the course\, please Click Here!
URL:https://lakelanier.org/event/americas-boating-course-aug-8/
LOCATION:GA
ATTACH;FMTTYPE=image/png:https://lakelanier.org/wp-content/uploads/2022/05/Americas-Boating-Club-Logo.png
ORGANIZER;CN="America's Boating Club Atlanta":MAILTO:abc@americasboatingclubatlanta.org
END:VEVENT
BEGIN:VEVENT
DTSTART;VALUE=DATE:20260919
DTEND;VALUE=DATE:20260920
DTSTAMP:20260421T102746
CREATED:20260202T193248Z
LAST-MODIFIED:20260202T193248Z
UID:10093-1789776000-1789862399@lakelanier.org
SUMMARY:Shore Sweep 2026
DESCRIPTION:Save the date for Shore Sweep 2026! More details coming soon.
URL:https://lakelanier.org/event/shore-sweep-2026/
LOCATION:Lake Lanier\, 34.2927439\,-84.1853298\, GA\, United States
ATTACH;FMTTYPE=image/png:https://lakelanier.org/wp-content/uploads/2025/01/Shore-Sweep-Logo.png
END:VEVENT
BEGIN:VEVENT
DTSTART;VALUE=DATE:20261112
DTEND;VALUE=DATE:20261113
DTSTAMP:20260421T102746
CREATED:20260226T215537Z
LAST-MODIFIED:20260226T215537Z
UID:10386-1794441600-1794527999@lakelanier.org
SUMMARY:60th Anniversary Gala
DESCRIPTION:As we commemorate LLA’s 60th anniversary\, we’re excited to invite you to our first-ever gala! We are anticipating an exciting night of celebration and fundraising for the next 60 years and beyond. More details coming soon!
URL:https://lakelanier.org/event/gala-2026/
LOCATION:GA
ATTACH;FMTTYPE=image/jpeg:https://lakelanier.org/wp-content/uploads/2026/02/LLA-195-scaled.jpg
END:VEVENT
BEGIN:VEVENT
DTSTART;TZID=America/New_York:20270101T100000
DTEND;TZID=America/New_York:20270101T100000
DTSTAMP:20260421T102746
CREATED:20260202T192359Z
LAST-MODIFIED:20260202T192549Z
UID:10089-1798797600-1798797600@lakelanier.org
SUMMARY:2027 Polar Bear Plunge & Paddle
DESCRIPTION:29th ANNUAL POLAR BEAR PLUNGE \nSay goodbye to 2026 and jump into the 2027 New Year at the 29th Annual Polar Bear Plunge. \nThis event draws thrill seekers of all walks of life to plunge themselves into the cool waters of Lake Lanier\, to bring in 2027. \nNEW FOR 2027! NOW OFFERING A DRAGON BOAT OPTION! Festivities begin at 10 a.m.\, paddle arrival at 10 a.m.\, plunge arrival 11:30 a.m. and will start at 12 p.m. on the LCKC docks. Don’t miss out on free hot chocolate\, exciting auction items\, and awards for best costume and best jump!  \nFor more information and to register\, please Click Here!
URL:https://lakelanier.org/event/2027-polar-bear-plunge-paddle/
LOCATION:GA
ATTACH;FMTTYPE=image/jpeg:https://lakelanier.org/wp-content/uploads/2026/02/polar-plunge-2027.jpeg
ORGANIZER;CN="Lanier%C2%A0Canoe and Kayak Club":MAILTO:info@lckc.org
END:VEVENT
END:VCALENDAR